BEGIN:VCALENDAR
VERSION:2.0
PRODID:-//Rockcyclus - ECPv5.16.0//NONSGML v1.0//EN
CALSCALE:GREGORIAN
METHOD:PUBLISH
X-WR-CALNAME:Rockcyclus
X-ORIGINAL-URL:https://rockcyclus.de
X-WR-CALDESC:Veranstaltungen für Rockcyclus
BEGIN:VTIMEZONE
TZID:UTC
BEGIN:STANDARD
TZOFFSETFROM:+0000
TZOFFSETTO:+0000
TZNAME:UTC
DTSTART:20190101T000000
END:STANDARD
END:VTIMEZONE
BEGIN:VEVENT
DTSTART;TZID=UTC:20190817T180000
DTEND;TZID=UTC:20190817T180000
DTSTAMP:20260421T060740
CREATED:20190418T111241Z
LAST-MODIFIED:20190418T111241Z
UID:5702-1566064800-1566064800@rockcyclus.de
SUMMARY:Under Construction | Pub Fiction
DESCRIPTION:https://www.uc-bremerhaven.de \nhttps://www.pub-fiction.com/
URL:https://rockcyclus.de/event/under-construction-pub-fiction/
LOCATION:GTV-Saal\, In den Nedderwiesen 3\, Bremerhaven\, 27574
END:VEVENT
END:VCALENDAR